BEGIN:VCALENDAR
VERSION:2.0
PRODID:-//National American Indian Housing Council - ECPv6.15.18//NONSGML v1.0//EN
CALSCALE:GREGORIAN
METHOD:PUBLISH
X-WR-CALNAME:National American Indian Housing Council
X-ORIGINAL-URL:https://naihc.net
X-WR-CALDESC:Events for National American Indian Housing Council
REFRESH-INTERVAL;VALUE=DURATION:PT1H
X-Robots-Tag:noindex
X-PUBLISHED-TTL:PT1H
BEGIN:VTIMEZONE
TZID:America/Los_Angeles
BEGIN:DAYLIGHT
TZOFFSETFROM:-0800
TZOFFSETTO:-0700
TZNAME:PDT
DTSTART:20220313T100000
END:DAYLIGHT
BEGIN:STANDARD
TZOFFSETFROM:-0700
TZOFFSETTO:-0800
TZNAME:PST
DTSTART:20221106T090000
END:STANDARD
BEGIN:DAYLIGHT
TZOFFSETFROM:-0800
TZOFFSETTO:-0700
TZNAME:PDT
DTSTART:20230312T100000
END:DAYLIGHT
BEGIN:STANDARD
TZOFFSETFROM:-0700
TZOFFSETTO:-0800
TZNAME:PST
DTSTART:20231105T090000
END:STANDARD
BEGIN:DAYLIGHT
TZOFFSETFROM:-0800
TZOFFSETTO:-0700
TZNAME:PDT
DTSTART:20240310T100000
END:DAYLIGHT
BEGIN:STANDARD
TZOFFSETFROM:-0700
TZOFFSETTO:-0800
TZNAME:PST
DTSTART:20241103T090000
END:STANDARD
END:VTIMEZONE
BEGIN:VEVENT
DTSTART;VALUE=DATE:20231003
DTEND;VALUE=DATE:20231007
DTSTAMP:20260423T110623
CREATED:20230810T003918Z
LAST-MODIFIED:20230906T010148Z
UID:10000015-1696352400-1696611599@naihc.net
SUMMARY:2023 Legal Symposium! October 4-6 2023 Mirage\, Las Vegas
DESCRIPTION:2023 Legal Symposium!\nOctober 4-6 2023\nMirage\, Las Vegas
URL:https://naihc.net/event/2023-legal-symposium-october-4-6-2023-mirage-las-vegas/
LOCATION:The Mirage\, 3400 S Las Vegas Blvd.\, Las Vegas\, NV\, 89109\, United States
CATEGORIES:Calendar of Events
ATTACH;FMTTYPE=image/jpeg:https://naihc.net/wp-content/uploads/2023/08/mirage.jpg
END:VEVENT
END:VCALENDAR